BEGIN:VCALENDAR
VERSION:2.0
PRODID:-//Eventin//Event Calendar//EN
CALSCALE:GREGORIAN
METHOD:PUBLISH
BEGIN:VEVENT
UID:87438cb6128291cef52b0e3f42f73f7e@www.d365ppug.com
SUMMARY:Birmingham In Person Meeting – 19th November 2026 (Evening)
DESCRIPTION:Our next in-person meeting of the year will take place on Thurs
 day 19th November 2026 from 18:30 at the Wesleyan Building. Parking is avai
 lable close by at the B4 Car Park or it’s a short walk from any city ce
 ntre train station.\n\n \n\nIf you want to register for this event please 
 go to the meet up page here\n\n \n\nAgenda details to follow...We strongly
  encourage you to arrive early to meet other user group members. We will be
  providing food and refreshments and you are welcome to stay afterwards for
  a chat!\n\n \n\nWe are always looking for people passionate about Dynamic
 s 365 and the Power Platform to present at our events. If you would like to
  speak at any of our future events please register here.
LOCATION:Wesleyan Colmore Circus Queensway · Birmingham
DTSTAMP:20260420T123214Z
DTSTART:20261119T183000Z
DTEND:20261119T210000Z
END:VEVENT
END:VCALENDAR
